BEGIN:VCALENDAR
VERSION:2.0
PRODID:-//Girls Who Click - ECPv6.15.20//NONSGML v1.0//EN
CALSCALE:GREGORIAN
METHOD:PUBLISH
X-ORIGINAL-URL:https://girlswhoclick.org
X-WR-CALDESC:Events for Girls Who Click
REFRESH-INTERVAL;VALUE=DURATION:PT1H
X-Robots-Tag:noindex
X-PUBLISHED-TTL:PT1H
BEGIN:VTIMEZONE
TZID:UTC
BEGIN:STANDARD
TZOFFSETFROM:+0000
TZOFFSETTO:+0000
TZNAME:UTC
DTSTART:20160101T000000
END:STANDARD
END:VTIMEZONE
BEGIN:VTIMEZONE
TZID:America/Los_Angeles
BEGIN:DAYLIGHT
TZOFFSETFROM:-0800
TZOFFSETTO:-0700
TZNAME:PDT
DTSTART:20190310T100000
END:DAYLIGHT
BEGIN:STANDARD
TZOFFSETFROM:-0700
TZOFFSETTO:-0800
TZNAME:PST
DTSTART:20191103T090000
END:STANDARD
BEGIN:DAYLIGHT
TZOFFSETFROM:-0800
TZOFFSETTO:-0700
TZNAME:PDT
DTSTART:20200308T100000
END:DAYLIGHT
BEGIN:STANDARD
TZOFFSETFROM:-0700
TZOFFSETTO:-0800
TZNAME:PST
DTSTART:20201101T090000
END:STANDARD
BEGIN:DAYLIGHT
TZOFFSETFROM:-0800
TZOFFSETTO:-0700
TZNAME:PDT
DTSTART:20210314T100000
END:DAYLIGHT
BEGIN:STANDARD
TZOFFSETFROM:-0700
TZOFFSETTO:-0800
TZNAME:PST
DTSTART:20211107T090000
END:STANDARD
END:VTIMEZONE
BEGIN:VTIMEZONE
TZID:America/New_York
BEGIN:DAYLIGHT
TZOFFSETFROM:-0500
TZOFFSETTO:-0400
TZNAME:EDT
DTSTART:20190310T070000
END:DAYLIGHT
BEGIN:STANDARD
TZOFFSETFROM:-0400
TZOFFSETTO:-0500
TZNAME:EST
DTSTART:20191103T060000
END:STANDARD
BEGIN:DAYLIGHT
TZOFFSETFROM:-0500
TZOFFSETTO:-0400
TZNAME:EDT
DTSTART:20200308T070000
END:DAYLIGHT
BEGIN:STANDARD
TZOFFSETFROM:-0400
TZOFFSETTO:-0500
TZNAME:EST
DTSTART:20201101T060000
END:STANDARD
BEGIN:DAYLIGHT
TZOFFSETFROM:-0500
TZOFFSETTO:-0400
TZNAME:EDT
DTSTART:20210314T070000
END:DAYLIGHT
BEGIN:STANDARD
TZOFFSETFROM:-0400
TZOFFSETTO:-0500
TZNAME:EST
DTSTART:20211107T060000
END:STANDARD
END:VTIMEZONE
BEGIN:VTIMEZONE
TZID:America/Chicago
BEGIN:DAYLIGHT
TZOFFSETFROM:-0600
TZOFFSETTO:-0500
TZNAME:CDT
DTSTART:20190310T080000
END:DAYLIGHT
BEGIN:STANDARD
TZOFFSETFROM:-0500
TZOFFSETTO:-0600
TZNAME:CST
DTSTART:20191103T070000
END:STANDARD
BEGIN:DAYLIGHT
TZOFFSETFROM:-0600
TZOFFSETTO:-0500
TZNAME:CDT
DTSTART:20200308T080000
END:DAYLIGHT
BEGIN:STANDARD
TZOFFSETFROM:-0500
TZOFFSETTO:-0600
TZNAME:CST
DTSTART:20201101T070000
END:STANDARD
BEGIN:DAYLIGHT
TZOFFSETFROM:-0600
TZOFFSETTO:-0500
TZNAME:CDT
DTSTART:20210314T080000
END:DAYLIGHT
BEGIN:STANDARD
TZOFFSETFROM:-0500
TZOFFSETTO:-0600
TZNAME:CST
DTSTART:20211107T070000
END:STANDARD
END:VTIMEZONE
BEGIN:VEVENT
DTSTART;TZID=UTC:20201107T100000
DTEND;TZID=UTC:20201107T113000
DTSTAMP:20260423T150707
CREATED:20200822T064354Z
LAST-MODIFIED:20200822T065022Z
UID:5051-1604743200-1604748600@girlswhoclick.org
SUMMARY:Free Online Bird Photography Workshop
DESCRIPTION:Join Girls Who Click for our first workshop dedicated to photographing birds! \n\n\n\n10am PST 1pm EST \n\n\n\nThis workshop is free for girls and female-identified youth ages 13-18 (though we do make exceptions for age).
URL:https://girlswhoclick.org/event/free-online-bird-photography-workshop/
LOCATION:ONLINE
END:VEVENT
BEGIN:VEVENT
DTSTART;TZID=UTC:20201024T110000
DTEND;TZID=UTC:20201024T120000
DTSTAMP:20260423T150707
CREATED:20201003T092703Z
LAST-MODIFIED:20201003T092944Z
UID:5345-1603537200-1603540800@girlswhoclick.org
SUMMARY:Taller de fotografía de naturaleza para niñas
DESCRIPTION:TALLER GRATUITO PARA NIÑAS \n\n\n\nSi te interesa la fotografía esto es para ti. En colaboración con Girls Who Click la fotografa Diana Caballero impartirá online este curso de fotografía. \n\n\n\nPuedes participar: si tienes entre 13 y 18 años de edad\, interés por la fotografía (puede ser con cámara digital\, análoga o dispositivo móvil)\, vives dentro de alguna de las comunidades de la región purépecha.  \n\n\n\nEl taller se impartirá a través de Zoom el día sábado 24 de octubre a las 11 a.m. El cupo es límitado\, así que reserva tu lugar.  \n\n\n\nLos padres/ tutores han que firmar el acuerdo de renuncia y exención de responsabilidad.  \n\n\nPlease enable JavaScript in your browser to complete this form.Nombre de participante *Email de participanteNombre del pardre/tutor *Email del padre/tutor *Edad de participante *Constatación de edad de participante *Soy participante de edad entre 10 y 19 añosSoy padre/tutor de una participante de edad entre 10 y 19 añosACUERDO DE RENUNCIA Y EXENCIÓN DE RESPONSABILIDAD *Un padre o tutor va a firmar el ACUERDO DE RENUNCIA Y EXENCIÓN DE RESPONSABILIDADYa hemos firmado ACUERDO DE RENUNCIA Y EXENCIÓN DE RESPONSABILIDADSe puede firmar el ACUERDO DE RENUNCIA Y EXENCIÓN DE RESPONSABILIDAD aquí: https://girlswhoclick.org/online_waiver_spanish/CommentSubmit  \n\n\n\n\nACUERDO DE RENUNCIA Y EXENCIÓN DE RESPONSABILIDAD
URL:https://girlswhoclick.org/event/diana2020/
LOCATION:ONLINE
ATTACH;FMTTYPE=image/png:https://girlswhoclick.org/wp-content/uploads/2020/10/Untitled-design-9.png
ORGANIZER;CN="Girls Who Click":MAILTO:info@girlswhoclick.org
END:VEVENT
BEGIN:VEVENT
DTSTART;TZID=UTC:20200909T130000
DTEND;TZID=UTC:20200909T140000
DTSTAMP:20260423T150707
CREATED:20200811T075330Z
LAST-MODIFIED:20200822T083159Z
UID:4961-1599656400-1599660000@girlswhoclick.org
SUMMARY:Free Online Filming Workshop with Erin Ranney
DESCRIPTION:Basics of Wildlife Filming\, “How to start telling your story with video”. Join Erin Ranney for an online workshop on September 9th. Erin will teach you the basics of wildlife video. \n\n\n\n1pm Pacific\, 4pm Eastern \n\n\n\nIf you don’t know about Erin. Erin is a freelance wildlife camerawoman based in both Alaska and Washington state with a variety of field experience and has filmed on big landmark BBC Productions and more. Read more about her amazing life and work: https://www.erinranney.com/about \n\n\n\nParents / Guardians must sign the liability waiver: Click here to sign the online waiver. \n\n\n\nPlease fill out the Application below
URL:https://girlswhoclick.org/event/erin2020/
LOCATION:ONLINE
END:VEVENT
BEGIN:VEVENT
DTSTART;TZID=America/Los_Angeles:20200805T100000
DTEND;TZID=America/Los_Angeles:20200805T113000
DTSTAMP:20260423T150707
CREATED:20200702T070010Z
LAST-MODIFIED:20200731T073135Z
UID:4590-1596621600-1596627000@girlswhoclick.org
SUMMARY:Free photography workshop with Joanna Pinneo
DESCRIPTION:Join Joanna Pinneo for a free online photography workshop. Take your photography to the next level as you learn how tell stories with your photos. Learn how to develop a photo story that you can use for projects\, pictures of friends or pictures of your family. What goes into putting together a photo story? What are the different things you want to think about and how do you plan ahead? \nThis workshop is for girls and female-identified youth\, ages 13-18 (though we do make occasional age exceptions). This workshop will take place on Zoom on Wednesday\, August 5th from 10:00 to 11:30pm PDT. This workshop is FREE. \nPlease fill out the application below and have a parent/guardian send us the signed Liability Waiver
URL:https://girlswhoclick.org/event/joanna2020/
LOCATION:ONLINE
ATTACH;FMTTYPE=image/png:https://girlswhoclick.org/wp-content/uploads/2020/06/6.png
END:VEVENT
BEGIN:VEVENT
DTSTART;TZID=America/Los_Angeles:20200725T100000
DTEND;TZID=America/Los_Angeles:20200725T113000
DTSTAMP:20260423T150707
CREATED:20200704T053842Z
LAST-MODIFIED:20200708T081349Z
UID:4606-1595671200-1595676600@girlswhoclick.org
SUMMARY:Free Nature Photography Workshop with Melissa Farlow
DESCRIPTION:Learn from the best. Melissa Farlow is renowned for her work photographing horses in the American West. \nJoin us to hear Melissa’s stories about America’s wild horses in the American West\, how to recognize and understand wild horse behavior\, and her trial and error of experiences while photographing mustangs! \nPlease fill out the application below and have a parent/guardian send us the signed Liability Waiver
URL:https://girlswhoclick.org/event/melissa2020/
LOCATION:ONLINE
ATTACH;FMTTYPE=image/png:https://girlswhoclick.org/wp-content/uploads/2020/06/8.png
END:VEVENT
BEGIN:VEVENT
DTSTART;TZID=America/New_York:20200717T120000
DTEND;TZID=America/New_York:20200717T133000
DTSTAMP:20260423T150707
CREATED:20200618T022234Z
LAST-MODIFIED:20200708T081047Z
UID:4435-1594987200-1594992600@girlswhoclick.org
SUMMARY:Free Photo Processing Workshop with Katie Schuler
DESCRIPTION:Join Katie Schuler for a free online photography workshop. Take your photography to the next level as you learn how to edit you photos. \nThis workshop is for girls and female-identified youth\, ages 13-18 (though we do make occasional age exceptions). This workshop will take place on Zoom on Friday\, July 17th from 12:00 to 1:30pm EDT. This workshop is FREE. \nPlease fill out the application below and have a parent/guardian send us the signed Liability Waiver
URL:https://girlswhoclick.org/event/katie2020/
LOCATION:ONLINE
CATEGORIES:Free Workshop
ATTACH;FMTTYPE=image/png:https://girlswhoclick.org/wp-content/uploads/2020/06/7.png
END:VEVENT
BEGIN:VEVENT
DTSTART;TZID=UTC:20200707T090000
DTEND;TZID=UTC:20200707T180000
DTSTAMP:20260423T150707
CREATED:20200308T094403Z
LAST-MODIFIED:20200308T094403Z
UID:3883-1594112400-1594144800@girlswhoclick.org
SUMMARY:Free Photography Workshop in Anchorage Alaska
DESCRIPTION:Spend a day with Cathy Hart and a team of experts capturing the wilderness outside of Anchorage while learning about nature photography. The workshop will begin and end in Anchorage. The group will then head to Winter Creek Trail in Girdwood to take photographs in the field! Transport both ways will be provided.  \nThe workshop will feature experts Alissa Crandall\, a professional photographer specializing in wildlife and nature photography\, Carl Johnson\, an award-winning nature photographer\, and Erica Carroll\, Field Representative for the Alaska Regional Office of National Parks Conservation Association (NPCA). \nREGISTRATION MATERIALS\n\nStudent Application Form (for the participant)\nParent Questionnaire (for parent/guardian)\nLiability waiver (print\, sign\, email to region1@girlswhoclick.org)\nPhoto Release (print\, sign\, email to region1@girlswhoclick.org)\nFinal liability document (Coming soon)\n\nPlease enable JavaScript in your browser to complete this form.Name *FirstLastEmail *PhoneComment or MessageSubmit
URL:https://girlswhoclick.org/event/anchorage2020/
LOCATION:Alaska Public Lands Information Center\, Anchorage\, AK\, United States
ORGANIZER;CN="Girls Who Click":MAILTO:info@girlswhoclick.org
END:VEVENT
BEGIN:VEVENT
DTSTART;VALUE=DATE:20200627
DTEND;VALUE=DATE:20200628
DTSTAMP:20260423T150707
CREATED:20200612T013150Z
LAST-MODIFIED:20200622T235104Z
UID:4388-1593216000-1593302399@girlswhoclick.org
SUMMARY:Online Workshop with Janet Kleyn
DESCRIPTION:Join Janet Kleyn for a free smart-phone photography workshop! Janet is from South Africa (and will be doing the workshop from South Africa!). She is the resident photographer and manager of the photographic concession at Mashatu Game Reserve in Botswana. This workshop will take place on Zoom on Saturday\, June 27th. This workshop is FREE. \nSign up below!
URL:https://girlswhoclick.org/event/online-workshop-with-janet-kleyn/
LOCATION:ONLINE
CATEGORIES:Free Workshop
END:VEVENT
BEGIN:VEVENT
DTSTART;TZID=America/Los_Angeles:20200614T140000
DTEND;TZID=America/Los_Angeles:20200614T153000
DTSTAMP:20260423T150707
CREATED:20200513T124828Z
LAST-MODIFIED:20200610T010331Z
UID:4322-1592143200-1592148600@girlswhoclick.org
SUMMARY:Online Workshop with Amy Gulick
DESCRIPTION:This workshop is FULL\, but you can still add your name to the waiting list by applying below. \nJoin award-winning author and photographer Amy Gulick for her first online workshop with Girls Who Click! Amy will speak about her life and career as a nature photographer\, but you will also learn a thing or two about photography! Download the social media graphic here! \nAmy will talk about how to get “from Snapshot to WOW Shot” and will also have a Q&A at the end of her presentation. \nThis workshop will take place on Zoom on Sunday\, June 14th from 2:00 to 3:30pm PDT. This workshop is FREE. \nPlease fill out the application below and have a parent/guardian send us a liability waiver! \nLiability Waiver –  Parents/guardians: Please sign (digital signatures OK) & email to info@girlswhoclick.org. Adobe Acrobat PDF Reader and DocHub are examples of free resources that will allow you to sign documents without printing! Girls Who Click does not endorse either of these products. \nAmy’s work has been featured in National Wildlife\, Sierra\, Audubon\, and National Geographic Newswatch. She is a columnist for Outdoor Photographer\, and a founding Fellow of the International League of Conservation Photographers. Check out her work at www.amygulick.com
URL:https://girlswhoclick.org/event/online-workshop-with-amy-gulick/
LOCATION:ONLINE
CATEGORIES:Free Workshop
ATTACH;FMTTYPE=image/png:https://girlswhoclick.org/wp-content/uploads/2020/05/Amy-Gulick-wordpress-featured.png
END:VEVENT
BEGIN:VEVENT
DTSTART;TZID=America/Los_Angeles:20200607T140000
DTEND;TZID=America/Los_Angeles:20200607T150000
DTSTAMP:20260423T150707
CREATED:20200506T022959Z
LAST-MODIFIED:20200506T044656Z
UID:4189-1591538400-1591542000@girlswhoclick.org
SUMMARY:“Five Steps to Great Nature Pictures” with Brenda Tharp
DESCRIPTION:“From a small wildflower or bug\, to a grand landscape\, to moments with animals\, Brenda will discuss simple ways to make your pictures the best they can be!” \nJoin Brenda Tharp for her first online workshop with Girls Who Click. Brenda will teach you “Five Steps to Great Nature Pictures.” \nThis workshop will take place on Zoom on Sunday\, June 7th at 2pm PDT. This workshop is FREE. \nFill out the application below to register for the workshop. We look forward to having you with us!
URL:https://girlswhoclick.org/event/five-steps-to-great-nature-pictures-with-brenda-tharp/
LOCATION:ONLINE\, United States
ATTACH;FMTTYPE=image/png:https://girlswhoclick.org/wp-content/uploads/2020/05/BrendaTharpOnline.png
END:VEVENT
BEGIN:VEVENT
DTSTART;TZID=America/Los_Angeles:20200523T150000
DTEND;TZID=America/Los_Angeles:20200523T160000
DTSTAMP:20260423T150707
CREATED:20200422T231628Z
LAST-MODIFIED:20200524T022539Z
UID:4139-1590246000-1590249600@girlswhoclick.org
SUMMARY:Online Workshop: Marine Wildlife with Jennifer Warner
DESCRIPTION:Online workshop with on photographing marine wildlife! Join marine wildlife photography expert Jennifer Leigh Warner as she discusses how to make great photos of marine wildlife and the relationship between humans and animals in marine ecosystems. \nWorkshop is May 23rd at 3PM PDT. \nPlease fill out the application below and have a parent/guardian send us a liability waiver! \nLiability Waiver –  Parents/guardians: Please sign (digital signatures OK) & email to info@girlswhoclick.org. Adobe Acrobat PDF Reader and DocHub are examples of free resources that will allow you to sign documents without printing! Girls Who Click does not endorse either of these products.
URL:https://girlswhoclick.org/event/online-workshop-marine-wildlife-with-jennifer-warner/
LOCATION:ONLINE\, United States
ATTACH;FMTTYPE=image/png:https://girlswhoclick.org/wp-content/uploads/2018/08/Jennifer-Warner.png
END:VEVENT
BEGIN:VEVENT
DTSTART;TZID=UTC:20200418T150000
DTEND;TZID=UTC:20200418T160000
DTSTAMP:20260423T150707
CREATED:20200415T100507Z
LAST-MODIFIED:20200715T222931Z
UID:4080-1587222000-1587225600@girlswhoclick.org
SUMMARY:Online workshop with Suzi Eszterhas 4/18
DESCRIPTION:FULL Join Suzi Eszterhas ONLINE for a presentation and Q&A. This is the SECOND 100% online workshop that we are offering to students. This workshop is FREE for girls and female-identified youth ages 13-18. \nThe workshop is Saturday April 18\, from 3:00-4:00PM PST \nThis workshop is limited to 15 students\, so please complete the application with liability waiver as soon as possible. Text us at 707-200-8133 with questions. \nLiability Waiver – Please sign (digital signatures OK) & email to info@girlswhoclick.org. Adobe Acrobat PDF Reader and DocHub are examples of free resources that will allow you to sign documents without printing! Girls Who Click does not endorse either of these products. \nWe will do the workshop on Zoom and will send you access details when we accept your application. \nThis workshop is FULL\, but you may still fill out our contact form so we can let you know when our next workshop will be! \n[contact-form-7 id=”2545″ title=”Contact Girls Who Click”]
URL:https://girlswhoclick.org/event/suzionline2020418/
LOCATION:ONLINE
CATEGORIES:Free Workshop
ATTACH;FMTTYPE=image/png:https://girlswhoclick.org/wp-content/uploads/2020/04/WordPress-Featured-Image-short-2.png
END:VEVENT
BEGIN:VEVENT
DTSTART;TZID=America/Chicago:20200409T190000
DTEND;TZID=America/Chicago:20200409T200000
DTSTAMP:20260423T150707
CREATED:20200323T035939Z
LAST-MODIFIED:20200325T080550Z
UID:3932-1586458800-1586462400@girlswhoclick.org
SUMMARY:FREE ONLINE PHOTOGRAPHY WORKSHOP FOR GWC PARTICIPANTS
DESCRIPTION:This workshop has a WAITLIST\, but we encourage you to submit an application as there are usually a few cancellations! \nJoin Kathy Adams Clark ONLINE for a workshop on photographing hummingbirds. Kathy is offering 10 FREE spots to Girls Who Click participants. That’s right\, this is the FIRST 100% online workshop that we are offering to students. This workshop will also have adult- learners present\, but GWC participants can remain anonymous. \nThe workshop is April 9\, from 7:00-8:00PM CDT \nThis workshop is limited to 10 students\, so please complete the application and waivers as soon as possible. Text us at 707-200-8133 with questions. The links to the application documents are below. You can use the form below to get more information! \nStudent Application \nParent Questionnaire \nLiability Waiver (sign and email to info@girlswhoclick.org)
URL:https://girlswhoclick.org/event/hummingbird/
LOCATION:ONLINE\, United States
CATEGORIES:Free Workshop
END:VEVENT
BEGIN:VEVENT
DTSTART;TZID=UTC:20200321T080000
DTEND;TZID=UTC:20200321T140000
DTSTAMP:20260423T150707
CREATED:20200305T005054Z
LAST-MODIFIED:20200315T101422Z
UID:3853-1584777600-1584799200@girlswhoclick.org
SUMMARY:CANCELLED: Free Photography Workshop for Teen Girls in San Diego
DESCRIPTION:Dear parents and participants\,\n \nWe have decided to cancel our La Jolla photography workshop on Saturday\, March 21. \n \nOur primary concern is you and your family’s health.\n \nIn the meantime\, We are working on creating some motivating content and list of photography activities that you can do from home! We will let you know when we have these available and will post them on Facebook.\n \nThough many things have shut down\, it is still important to stay active and go out in nature when safe. \n \nWe are very sorry and will work to reschedule after the crisis passes.\n \nStay positive and healthy!\n \nThe team at Girls Who Click \n \n  \n \n\nFree wildlife photography workshop for teen girls\, ages 13-18 in La Jolla\, California. Learn about what it takes to become a professional female nature photographer and practice on a beautiful nature walk through the La Jolla Harbor. We will take photos of birds\, sea lions\, harbor seals\, and other beautiful wildlife. \nRegistration Materials\n\n\n\n\nStudent Application Form (for the participant)\nParent Questionnaire (for parent/guardian)\nLiability waiver (print\, sign\, email to region1@girlswhoclick.org)\nPhoto Release (print\, sign\, email to region1@girlswhoclick.org)
URL:https://girlswhoclick.org/event/sandiego2020/
LOCATION:Mangelsen – Images of Nature Gallery\, 7916 Girard Ave\, La Jolla\, CA\, 92037\, United States
CATEGORIES:Free Workshop
END:VEVENT
BEGIN:VEVENT
DTSTART;TZID=UTC:20171008T080000
DTEND;TZID=UTC:20171008T170000
DTSTAMP:20260423T150707
CREATED:20171107T094353Z
LAST-MODIFIED:20171107T094353Z
UID:2481-1507449600-1507482000@girlswhoclick.org
SUMMARY:Moss Landing Wildlife Photography Workshop
DESCRIPTION:Free wildlife photography workshop for teen girls\, ages 13-18 in Moss Landing\, California. Learn about what it takes to become a professional female nature photographer and practice on a beautiful nature walk through the Elkhorn Slough Reserve.  In the afternoon\, we will board an Elkhorn Slough Safari boat\, and will take photos of pelicans\, sea lions\, harbor seals\, sea otters and other beautiful wildlife. \nWe are so thankful to our generous sponsors: Elkhorn Slough Safari\, LLC for donating the boat\, BorrowLenses.com for donating the gear for the low-income spaces\, and Elkhorn Slough Reserve for donating park entry and the conference room.
URL:https://girlswhoclick.org/event/moss-landing-wildlife-photography-workshop/
LOCATION:Elkhorn Slough Reserve\, Moss Landing\, CA\, United States
ATTACH;FMTTYPE=image/png:https://girlswhoclick.org/wp-content/uploads/2016/11/Elkhorn-Slough-Safari-2017.png
END:VEVENT
END:VCALENDAR